0.001161572000
0.000000000000
0.000000000000
-0.001161572000
21.28
1.69
